BEGIN:VCALENDAR
VERSION:2.0
PRODID:-//Utah American Legion Post 112 - ECPv6.11.2//NONSGML v1.0//EN
CALSCALE:GREGORIAN
METHOD:PUBLISH
X-ORIGINAL-URL:https://utlegion112.org
X-WR-CALDESC:Events for Utah American Legion Post 112
REFRESH-INTERVAL;VALUE=DURATION:PT1H
X-Robots-Tag:noindex
X-PUBLISHED-TTL:PT1H
BEGIN:VTIMEZONE
TZID:America/Denver
BEGIN:DAYLIGHT
TZOFFSETFROM:-0700
TZOFFSETTO:-0600
TZNAME:MDT
DTSTART:20220313T090000
END:DAYLIGHT
BEGIN:STANDARD
TZOFFSETFROM:-0600
TZOFFSETTO:-0700
TZNAME:MST
DTSTART:20221106T080000
END:STANDARD
END:VTIMEZONE
BEGIN:VEVENT
DTSTART;TZID=America/Denver:20220624T190000
DTEND;TZID=America/Denver:20220624T220000
DTSTAMP:20260424T221736
CREATED:20220610T075307Z
LAST-MODIFIED:20220610T082654Z
UID:2838-1656097200-1656108000@utlegion112.org
SUMMARY:Karaoke Night by Toni G
DESCRIPTION:
URL:https://utlegion112.org/event/karaoke-night-by-toni-g-4/
LOCATION:Utah American Legion Post 112\, 320 E 3900 S\, Suite D\, South Salt Lake\, UT\, 84107\, United States
CATEGORIES:Karaoke,Post 112
ATTACH;FMTTYPE=image/png:https://utlegion112.org/wp-content/uploads/2022/04/karaoke.png
END:VEVENT
BEGIN:VEVENT
DTSTART;TZID=America/Denver:20220624T000000
DTEND;TZID=America/Denver:20220626T235959
DTSTAMP:20260424T221736
CREATED:20220620T101743Z
LAST-MODIFIED:20220620T105041Z
UID:3090-1656028800-1656287999@utlegion112.org
SUMMARY:Utah State Convention
DESCRIPTION:
URL:https://utlegion112.org/event/utah-state-convention/
LOCATION:Ramada by Wyndham Price\, 838 Westwood Blvd\, Price\, Utah\, 84501\, United States
CATEGORIES:American Legion Honor Guard,American Legion Riders,Convention,District 8,Post 112,Sons of The American Legion,The American Legion Auxiliary,The American Legionnaires,Utah State
END:VEVENT
BEGIN:VEVENT
DTSTART;TZID=America/Denver:20220623T190000
DTEND;TZID=America/Denver:20220623T220000
DTSTAMP:20260424T221736
CREATED:20220622T010211Z
LAST-MODIFIED:20220622T010512Z
UID:3135-1656010800-1656021600@utlegion112.org
SUMMARY:The Live Band is Continuum
DESCRIPTION:
URL:https://utlegion112.org/event/the-live-band-is-continuum-8/
LOCATION:Utah American Legion Post 112\, 320 E 3900 S\, Suite D\, South Salt Lake\, UT\, 84107\, United States
CATEGORIES:Bands,Continuum,Post 112
ATTACH;FMTTYPE=image/jpeg:https://utlegion112.org/wp-content/uploads/2022/03/20220320_185908-scaled-scaled.jpg
END:VEVENT
BEGIN:VEVENT
DTSTART;TZID=America/Denver:20220622T190000
DTEND;TZID=America/Denver:20220622T220000
DTSTAMP:20260424T221736
CREATED:20220610T073831Z
LAST-MODIFIED:20220610T080220Z
UID:2826-1655924400-1655935200@utlegion112.org
SUMMARY:Karaoke Night
DESCRIPTION:
URL:https://utlegion112.org/event/karaoke-night-16/
LOCATION:Utah American Legion Post 112\, 320 E 3900 S\, Suite D\, South Salt Lake\, UT\, 84107\, United States
CATEGORIES:Karaoke,Post 112
ATTACH;FMTTYPE=image/png:https://utlegion112.org/wp-content/uploads/2022/04/karaoke.png
END:VEVENT
BEGIN:VEVENT
DTSTART;TZID=America/Denver:20220620T000000
DTEND;TZID=America/Denver:20220620T235959
DTSTAMP:20260424T221736
CREATED:20220620T105313Z
LAST-MODIFIED:20220620T105503Z
UID:3094-1655683200-1655769599@utlegion112.org
SUMMARY:Juneteenth Day
DESCRIPTION:
URL:https://utlegion112.org/event/juneteenth-day/
LOCATION:UT
CATEGORIES:American Legion Honor Guard,American Legion Riders,Post 112,Sons of The American Legion,The American Legion Auxiliary,The American Legionnaires
END:VEVENT
BEGIN:VEVENT
DTSTART;TZID=America/Denver:20220620T000000
DTEND;TZID=America/Denver:20220620T235959
DTSTAMP:20260424T221736
CREATED:20220616T115612Z
LAST-MODIFIED:20220616T120133Z
UID:2968-1655683200-1655769599@utlegion112.org
SUMMARY:Ride to Work Day – 3rd Monday of June
DESCRIPTION:Monday\, June 20th is Ride to Work day nationwide. This is an extra-special annual showing of the goodness of motos for commuting. If you ride\, let’s help advocate and support the use of motorcycles\, groms\, dirt bikes\, scooters\, rucks & mopeds for transportation. Let’s get the community out on two wheels on this day nationwide!
URL:https://utlegion112.org/event/ride-to-work-day-3rd-monday-of-june/
LOCATION:UT
CATEGORIES:American Legion Riders,Marine Riders
ATTACH;FMTTYPE=image/png:https://utlegion112.org/wp-content/uploads/2022/06/RideToWorkDay-6-20-22-TRF-website.png
END:VEVENT
BEGIN:VEVENT
DTSTART;TZID=America/Denver:20220619T190000
DTEND;TZID=America/Denver:20220619T220000
DTSTAMP:20260424T221736
CREATED:20220610T090754Z
LAST-MODIFIED:20220610T091230Z
UID:2853-1655665200-1655676000@utlegion112.org
SUMMARY:The Live Band is Canyon Jam
DESCRIPTION:
URL:https://utlegion112.org/event/the-live-band-is-canyon-jam-10/
LOCATION:Utah American Legion Post 112\, 320 E 3900 S\, Suite D\, South Salt Lake\, UT\, 84107\, United States
CATEGORIES:Bands,Canyon Jam,Post 112
ATTACH;FMTTYPE=image/jpeg:https://utlegion112.org/wp-content/uploads/2022/03/20220326_185344-1-scaled-scaled.jpg
END:VEVENT
BEGIN:VEVENT
DTSTART;TZID=America/Denver:20220619T000000
DTEND;TZID=America/Denver:20220619T235959
DTSTAMP:20260424T221736
CREATED:20220618T193055Z
LAST-MODIFIED:20220618T193059Z
UID:3088-1655596800-1655683199@utlegion112.org
SUMMARY:Fathers Day
DESCRIPTION:
URL:https://utlegion112.org/event/fathers-day/
LOCATION:UT
CATEGORIES:American Legion Riders,Post 112,Sons of The American Legion,The American Legion Auxiliary,The American Legionnaires
END:VEVENT
BEGIN:VEVENT
DTSTART;TZID=America/Denver:20220618T190000
DTEND;TZID=America/Denver:20220618T220000
DTSTAMP:20260424T221736
CREATED:20220610T092116Z
LAST-MODIFIED:20220610T092715Z
UID:2858-1655578800-1655589600@utlegion112.org
SUMMARY:The Live Band is Canyon Jam
DESCRIPTION:
URL:https://utlegion112.org/event/the-live-band-is-canyon-jam-12/
LOCATION:Utah American Legion Post 112\, 320 E 3900 S\, Suite D\, South Salt Lake\, UT\, 84107\, United States
CATEGORIES:Bands,Canyon Jam,Post 112
ATTACH;FMTTYPE=image/jpeg:https://utlegion112.org/wp-content/uploads/2022/03/20220326_185344-1-scaled-scaled.jpg
END:VEVENT
BEGIN:VEVENT
DTSTART;TZID=America/Denver:20220618T083000
DTEND;TZID=America/Denver:20220618T220000
DTSTAMP:20260424T221736
CREATED:20220507T030720Z
LAST-MODIFIED:20220507T031115Z
UID:2139-1655541000-1655589600@utlegion112.org
SUMMARY:Old Glory Ride
DESCRIPTION:Food – Poker Run – 50/50 -RaffleCharity to Benefit The American Legion Legacy Scholarship Fund.Meet @ Midvalley LeatherRegistration: 8:30-9:30 AM with KSU:9:30Riders:$25/Passengers:$10Meal with Paid Registration1 Free Raffle Ticket with Paid RegistrationWe will end the ride at the Margaret Wines Park in Lehi: 100E. 600 N. -Southeast pavilion.
URL:https://utlegion112.org/event/old-glory-ride/
LOCATION:Midvalley Shoe Repair and Leathers\, 6568 S State St\, Murray\, Utah\, 84107\, United States
CATEGORIES:American Legion Riders,Post 112
ATTACH;FMTTYPE=image/png:https://utlegion112.org/wp-content/uploads/2022/05/Screenshot-2022-05-06-203023.png
END:VEVENT
BEGIN:VEVENT
DTSTART;TZID=America/Denver:20220617T190000
DTEND;TZID=America/Denver:20220617T220000
DTSTAMP:20260424T221736
CREATED:20220610T075101Z
LAST-MODIFIED:20220610T083055Z
UID:2836-1655492400-1655503200@utlegion112.org
SUMMARY:Karaoke Night by Toni G
DESCRIPTION:
URL:https://utlegion112.org/event/karaoke-night-by-toni-g-3/
LOCATION:Utah American Legion Post 112\, 320 E 3900 S\, Suite D\, South Salt Lake\, UT\, 84107\, United States
CATEGORIES:Karaoke,Post 112
ATTACH;FMTTYPE=image/png:https://utlegion112.org/wp-content/uploads/2022/04/karaoke.png
END:VEVENT
BEGIN:VEVENT
DTSTART;TZID=America/Denver:20220615T190000
DTEND;TZID=America/Denver:20220615T220000
DTSTAMP:20260424T221736
CREATED:20220610T073517Z
LAST-MODIFIED:20220610T080334Z
UID:2824-1655319600-1655330400@utlegion112.org
SUMMARY:Karaoke Night
DESCRIPTION:
URL:https://utlegion112.org/event/karaoke-night-15/
LOCATION:Utah American Legion Post 112\, 320 E 3900 S\, Suite D\, South Salt Lake\, UT\, 84107\, United States
CATEGORIES:Karaoke,Post 112
ATTACH;FMTTYPE=image/png:https://utlegion112.org/wp-content/uploads/2022/04/karaoke.png
END:VEVENT
BEGIN:VEVENT
DTSTART;TZID=America/Denver:20220614T000000
DTEND;TZID=America/Denver:20220614T235959
DTSTAMP:20260424T221736
CREATED:20220613T123348Z
LAST-MODIFIED:20220613T123823Z
UID:2909-1655164800-1655251199@utlegion112.org
SUMMARY:Flag Day
DESCRIPTION:
URL:https://utlegion112.org/event/flag-day/
LOCATION:Utah American Legion Post 112\, 320 E 3900 S\, Suite D\, South Salt Lake\, UT\, 84107\, United States
CATEGORIES:American Legion Riders,Post 112,Sons of The American Legion,The American Legion Auxiliary,The American Legionnaires
ATTACH;FMTTYPE=image/jpeg:https://utlegion112.org/wp-content/uploads/2022/06/285658939_1157312481774664_9205397901526159374_n.jpg
END:VEVENT
BEGIN:VEVENT
DTSTART;TZID=America/Denver:20220612T190000
DTEND;TZID=America/Denver:20220612T220000
DTSTAMP:20260424T221736
CREATED:20220610T085657Z
LAST-MODIFIED:20220610T090415Z
UID:2849-1655060400-1655071200@utlegion112.org
SUMMARY:The Live Band is Canyon Jam
DESCRIPTION:
URL:https://utlegion112.org/event/the-live-band-is-canyon-jam-9/
LOCATION:Utah American Legion Post 112\, 320 E 3900 S\, Suite D\, South Salt Lake\, UT\, 84107\, United States
CATEGORIES:Bands,Canyon Jam,Post 112
ATTACH;FMTTYPE=image/jpeg:https://utlegion112.org/wp-content/uploads/2022/03/20220326_185344-1-scaled-scaled.jpg
END:VEVENT
BEGIN:VEVENT
DTSTART;TZID=America/Denver:20220611T190000
DTEND;TZID=America/Denver:20220611T220000
DTSTAMP:20260424T221736
CREATED:20220610T075515Z
LAST-MODIFIED:20220610T083916Z
UID:2841-1654974000-1654984800@utlegion112.org
SUMMARY:Karaoke Night by Toni K
DESCRIPTION:
URL:https://utlegion112.org/event/karaoke-night-by-toni-k/
LOCATION:Utah American Legion Post 112\, 320 E 3900 S\, Suite D\, South Salt Lake\, UT\, 84107\, United States
CATEGORIES:Karaoke,Post 112
ATTACH;FMTTYPE=image/png:https://utlegion112.org/wp-content/uploads/2022/04/karaoke.png
END:VEVENT
BEGIN:VEVENT
DTSTART;TZID=America/Denver:20220610T190000
DTEND;TZID=America/Denver:20220610T220000
DTSTAMP:20260424T221736
CREATED:20220610T074823Z
LAST-MODIFIED:20220610T083714Z
UID:2833-1654887600-1654898400@utlegion112.org
SUMMARY:Karaoke Night by Toni G
DESCRIPTION:
URL:https://utlegion112.org/event/karaoke-night-by-toni-g-2/
LOCATION:Utah American Legion Post 112\, 320 E 3900 S\, Suite D\, South Salt Lake\, UT\, 84107\, United States
CATEGORIES:Karaoke,Post 112
ATTACH;FMTTYPE=image/png:https://utlegion112.org/wp-content/uploads/2022/04/karaoke.png
END:VEVENT
BEGIN:VEVENT
DTSTART;TZID=America/Denver:20220610T170000
DTEND;TZID=America/Denver:20220611T233000
DTSTAMP:20260424T221736
CREATED:20220610T093404Z
LAST-MODIFIED:20220613T135127Z
UID:2862-1654880400-1654990200@utlegion112.org
SUMMARY:Marine Riders
DESCRIPTION:
URL:https://utlegion112.org/event/marine-riders/
LOCATION:Utah American Legion Post 112\, 320 E 3900 S\, Suite D\, South Salt Lake\, UT\, 84107\, United States
CATEGORIES:Marine Riders,Post 112
ATTACH;FMTTYPE=image/png:https://utlegion112.org/wp-content/uploads/2022/06/Marine-Riders-Wasatch.png
END:VEVENT
BEGIN:VEVENT
DTSTART;TZID=America/Denver:20220609T070000
DTEND;TZID=America/Denver:20220609T100000
DTSTAMP:20260424T221736
CREATED:20220611T004008Z
LAST-MODIFIED:20220622T011058Z
UID:2868-1654758000-1654768800@utlegion112.org
SUMMARY:The Live Band is Continuum
DESCRIPTION:
URL:https://utlegion112.org/event/the-live-band-is-continuum-7/
LOCATION:Utah American Legion Post 112\, 320 E 3900 S\, Suite D\, South Salt Lake\, UT\, 84107\, United States
CATEGORIES:Bands,Continuum,Post 112
ATTACH;FMTTYPE=image/jpeg:https://utlegion112.org/wp-content/uploads/2022/03/20220320_185908-scaled-scaled.jpg
END:VEVENT
BEGIN:VEVENT
DTSTART;TZID=America/Denver:20220608T190000
DTEND;TZID=America/Denver:20220608T220000
DTSTAMP:20260424T221736
CREATED:20220610T073149Z
LAST-MODIFIED:20220610T084035Z
UID:2822-1654714800-1654725600@utlegion112.org
SUMMARY:Karaoke Night
DESCRIPTION:
URL:https://utlegion112.org/event/karaoke-night-14/
LOCATION:Utah American Legion Post 112\, 320 E 3900 S\, Suite D\, South Salt Lake\, UT\, 84107\, United States
CATEGORIES:Karaoke,Post 112
ATTACH;FMTTYPE=image/png:https://utlegion112.org/wp-content/uploads/2022/04/karaoke.png
END:VEVENT
BEGIN:VEVENT
DTSTART;TZID=America/Denver:20220605T190000
DTEND;TZID=America/Denver:20220605T220000
DTSTAMP:20260424T221736
CREATED:20220610T085137Z
LAST-MODIFIED:20220610T090252Z
UID:2846-1654455600-1654466400@utlegion112.org
SUMMARY:The Live Band is Canyon Jam
DESCRIPTION:
URL:https://utlegion112.org/event/the-live-band-is-canyon-jam-8/
LOCATION:Utah American Legion Post 112\, 320 E 3900 S\, Suite D\, South Salt Lake\, UT\, 84107\, United States
CATEGORIES:Bands,Canyon Jam,Post 112
ATTACH;FMTTYPE=image/jpeg:https://utlegion112.org/wp-content/uploads/2022/03/20220326_185344-1-scaled-scaled.jpg
END:VEVENT
BEGIN:VEVENT
DTSTART;TZID=America/Denver:20220603T190000
DTEND;TZID=America/Denver:20220603T220000
DTSTAMP:20260424T221736
CREATED:20220610T074418Z
LAST-MODIFIED:20220610T084427Z
UID:2831-1654282800-1654293600@utlegion112.org
SUMMARY:Karaoke Night by Toni G
DESCRIPTION:
URL:https://utlegion112.org/event/karaoke-night-by-toni-g/
LOCATION:Utah American Legion Post 112\, 320 E 3900 S\, Suite D\, South Salt Lake\, UT\, 84107\, United States
CATEGORIES:Karaoke,Post 112
ATTACH;FMTTYPE=image/png:https://utlegion112.org/wp-content/uploads/2022/04/karaoke.png
END:VEVENT
BEGIN:VEVENT
DTSTART;TZID=America/Denver:20220602T190000
DTEND;TZID=America/Denver:20220602T220000
DTSTAMP:20260424T221736
CREATED:20220611T002751Z
LAST-MODIFIED:20220611T004230Z
UID:2865-1654196400-1654207200@utlegion112.org
SUMMARY:The Live Band is Continuum
DESCRIPTION:
URL:https://utlegion112.org/event/the-live-band-is-continuum-6/
LOCATION:UT
CATEGORIES:Bands,Continuum,Post 112
ATTACH;FMTTYPE=image/jpeg:https://utlegion112.org/wp-content/uploads/2022/03/20220320_185908-scaled-scaled.jpg
END:VEVENT
BEGIN:VEVENT
DTSTART;TZID=America/Denver:20220601T190000
DTEND;TZID=America/Denver:20220601T220000
DTSTAMP:20260424T221736
CREATED:20220610T072841Z
LAST-MODIFIED:20220610T084531Z
UID:2819-1654110000-1654120800@utlegion112.org
SUMMARY:Karaoke Night
DESCRIPTION:
URL:https://utlegion112.org/event/karaoke-night-13/
LOCATION:Utah American Legion Post 112\, 320 E 3900 S\, Suite D\, South Salt Lake\, UT\, 84107\, United States
CATEGORIES:Karaoke,Post 112
ATTACH;FMTTYPE=image/png:https://utlegion112.org/wp-content/uploads/2022/04/karaoke.png
END:VEVENT
BEGIN:VEVENT
DTSTART;TZID=America/Denver:20220530T000000
DTEND;TZID=America/Denver:20220530T235959
DTSTAMP:20260424T221736
CREATED:20220502T021749Z
LAST-MODIFIED:20220502T021751Z
UID:2058-1653868800-1653955199@utlegion112.org
SUMMARY:Memorial Day
DESCRIPTION:
URL:https://utlegion112.org/event/memorial-day/
LOCATION:UT
END:VEVENT
BEGIN:VEVENT
DTSTART;TZID=America/Denver:20220529T190000
DTEND;TZID=America/Denver:20220529T220000
DTSTAMP:20260424T221736
CREATED:20220502T014949Z
LAST-MODIFIED:20220502T015120Z
UID:2054-1653850800-1653861600@utlegion112.org
SUMMARY:The Live Band is Canyon Jam
DESCRIPTION:
URL:https://utlegion112.org/event/the-live-band-is-canyon-jam-7/
LOCATION:Utah American Legion Post 112\, 320 E 3900 S\, Suite D\, South Salt Lake\, UT\, 84107\, United States
CATEGORIES:Bands,Canyon Jam,Post 112
ATTACH;FMTTYPE=image/jpeg:https://utlegion112.org/wp-content/uploads/2022/03/20220326_185344-1-scaled-scaled.jpg
END:VEVENT
BEGIN:VEVENT
DTSTART;TZID=America/Denver:20220528T190000
DTEND;TZID=America/Denver:20220528T220000
DTSTAMP:20260424T221736
CREATED:20220502T014607Z
LAST-MODIFIED:20220502T015220Z
UID:2052-1653764400-1653775200@utlegion112.org
SUMMARY:The Live Band is Canyon Jam
DESCRIPTION:
URL:https://utlegion112.org/event/the-live-band-is-canyon-jam-6/
LOCATION:Utah American Legion Post 112\, 320 E 3900 S\, Suite D\, South Salt Lake\, UT\, 84107\, United States
CATEGORIES:Bands,Canyon Jam,Post 112
ATTACH;FMTTYPE=image/jpeg:https://utlegion112.org/wp-content/uploads/2022/03/20220326_185344-1-scaled-scaled.jpg
END:VEVENT
BEGIN:VEVENT
DTSTART;TZID=America/Denver:20220527T190000
DTEND;TZID=America/Denver:20220527T220000
DTSTAMP:20260424T221736
CREATED:20220502T013825Z
LAST-MODIFIED:20220502T013944Z
UID:2050-1653678000-1653688800@utlegion112.org
SUMMARY:Karaoke Night
DESCRIPTION:
URL:https://utlegion112.org/event/karaoke-night-12/
LOCATION:Utah American Legion Post 112\, 320 E 3900 S\, Suite D\, South Salt Lake\, UT\, 84107\, United States
CATEGORIES:Karaoke,Post 112
ATTACH;FMTTYPE=image/png:https://utlegion112.org/wp-content/uploads/2022/04/karaoke.png
END:VEVENT
BEGIN:VEVENT
DTSTART;TZID=America/Denver:20220527T000000
DTEND;TZID=America/Denver:20220527T235959
DTSTAMP:20260424T221736
CREATED:20220506T230310Z
LAST-MODIFIED:20220506T231331Z
UID:2130-1653609600-1653695999@utlegion112.org
SUMMARY:National Poppy Day®
DESCRIPTION:National Poppy Day® is May 27th this year! \n\n\n\nIn the month leading up to this day\, help us spread awareness by passing the poppy! \n\n\n\nWe want to see how far we can get this poppy to go! So\, please post on your social media pages and ask friends and family to post it too! \n\n\n\nBe sure to use #NationalPoppyDay#AmericanLegionAuxiliary and tag American Legion Auxiliary National Headquarters
URL:https://utlegion112.org/event/national-poppy-day/
LOCATION:UT
CATEGORIES:Post 112,The American Legion Auxiliary
ATTACH;FMTTYPE=image/jpeg:https://utlegion112.org/wp-content/uploads/2022/05/279644969_360128152817928_5966741336438710644_n.jpg
END:VEVENT
BEGIN:VEVENT
DTSTART;TZID=America/Denver:20220526T190000
DTEND;TZID=America/Denver:20220526T220000
DTSTAMP:20260424T221736
CREATED:20220501T234452Z
LAST-MODIFIED:20220501T234941Z
UID:2048-1653591600-1653602400@utlegion112.org
SUMMARY:The Live Band is Continuum
DESCRIPTION:
URL:https://utlegion112.org/event/the-live-band-is-continuum-5/
LOCATION:Utah American Legion Post 112\, 320 E 3900 S\, Suite D\, South Salt Lake\, UT\, 84107\, United States
CATEGORIES:Bands,Continuum,Post 112
ATTACH;FMTTYPE=image/jpeg:https://utlegion112.org/wp-content/uploads/2022/04/20220320_185908-scaled-scaled.jpg
END:VEVENT
BEGIN:VEVENT
DTSTART;TZID=America/Denver:20220525T190000
DTEND;TZID=America/Denver:20220525T220000
DTSTAMP:20260424T221736
CREATED:20220501T233558Z
LAST-MODIFIED:20220501T233600Z
UID:2046-1653505200-1653516000@utlegion112.org
SUMMARY:Karaoke Night
DESCRIPTION:
URL:https://utlegion112.org/event/karaoke-night-11/
LOCATION:Utah American Legion Post 112\, 320 E 3900 S\, Suite D\, South Salt Lake\, UT\, 84107\, United States
CATEGORIES:Karaoke,Post 112
ATTACH;FMTTYPE=image/png:https://utlegion112.org/wp-content/uploads/2022/04/karaoke.png
END:VEVENT
END:VCALENDAR