BEGIN:VCALENDAR
VERSION:2.0
PRODID:-//Utah American Legion Post 112 - ECPv6.11.2//NONSGML v1.0//EN
CALSCALE:GREGORIAN
METHOD:PUBLISH
X-ORIGINAL-URL:https://utlegion112.org
X-WR-CALDESC:Events for Utah American Legion Post 112
REFRESH-INTERVAL;VALUE=DURATION:PT1H
X-Robots-Tag:noindex
X-PUBLISHED-TTL:PT1H
BEGIN:VTIMEZONE
TZID:America/Denver
BEGIN:DAYLIGHT
TZOFFSETFROM:-0700
TZOFFSETTO:-0600
TZNAME:MDT
DTSTART:20230312T090000
END:DAYLIGHT
BEGIN:STANDARD
TZOFFSETFROM:-0600
TZOFFSETTO:-0700
TZNAME:MST
DTSTART:20231105T080000
END:STANDARD
END:VTIMEZONE
BEGIN:VEVENT
DTSTART;TZID=America/Denver:20230226T190000
DTEND;TZID=America/Denver:20230226T220000
DTSTAMP:20260424T151536
CREATED:20230226T045009Z
LAST-MODIFIED:20230226T050023Z
UID:9002-1677438000-1677448800@utlegion112.org
SUMMARY:Live Band "Canyon Band"
DESCRIPTION:
URL:https://utlegion112.org/event/live-band-canyon-band-3/
LOCATION:Utah American Legion Post 112\, 320 E 3900 S\, Suite D\, South Salt Lake\, UT\, 84107\, United States
CATEGORIES:Bands,Canyon Band,Post 112
ATTACH;FMTTYPE=image/jpeg:https://utlegion112.org/wp-content/uploads/2022/09/AdobeStock_228862727-scaled.jpeg
END:VEVENT
BEGIN:VEVENT
DTSTART;TZID=America/Denver:20230225T190000
DTEND;TZID=America/Denver:20230225T220000
DTSTAMP:20260424T151536
CREATED:20230226T025859Z
LAST-MODIFIED:20230226T073657Z
UID:8975-1677351600-1677362400@utlegion112.org
SUMMARY:February Birthday Party with Generation Gap
DESCRIPTION:Saturday Night\, February 25th\, at 7 pm is a Happy Birthday Party for anyone with a Birthday in February\, and a live band is playing “Generation Gap.” \n\n\n\nEveryone is invited. \n\n\n\nThis is the first time “Generation Gap” has performed at the American Legion Post 112 and performed exceptionally\, and have been invited back to perform again at a future date. \n\n\n\nWatch for future dates for this band.
URL:https://utlegion112.org/event/february-birthday-party-with-generation-gap/
LOCATION:Utah American Legion Post 112\, 320 E 3900 S\, Suite D\, South Salt Lake\, UT\, 84107\, United States
CATEGORIES:Bands,Generation Gap,Post 112
ATTACH;FMTTYPE=image/jpeg:https://utlegion112.org/wp-content/uploads/2023/02/generation-Gap.jpg
END:VEVENT
BEGIN:VEVENT
DTSTART;TZID=America/Denver:20230204T190000
DTEND;TZID=America/Denver:20230204T220000
DTSTAMP:20260424T151536
CREATED:20230109T130042Z
LAST-MODIFIED:20230109T130108Z
UID:8810-1675537200-1675548000@utlegion112.org
SUMMARY:Karaoke Night
DESCRIPTION:
URL:https://utlegion112.org/event/karaoke-night-77/
LOCATION:Utah American Legion Post 112\, 320 E 3900 S\, Suite D\, South Salt Lake\, UT\, 84107\, United States
CATEGORIES:Karaoke,Post 112
ATTACH;FMTTYPE=image/png:https://utlegion112.org/wp-content/uploads/2022/04/karaoke.png
END:VEVENT
BEGIN:VEVENT
DTSTART;TZID=America/Denver:20230203T190000
DTEND;TZID=America/Denver:20230203T220000
DTSTAMP:20260424T151536
CREATED:20230109T125020Z
LAST-MODIFIED:20230109T125502Z
UID:8807-1675450800-1675461600@utlegion112.org
SUMMARY:Karaoke Night
DESCRIPTION:
URL:https://utlegion112.org/event/karaoke-night-copy/
LOCATION:Utah American Legion Post 112\, 320 E 3900 S\, Suite D\, South Salt Lake\, UT\, 84107\, United States
CATEGORIES:Karaoke,Post 112
ATTACH;FMTTYPE=image/png:https://utlegion112.org/wp-content/uploads/2022/04/karaoke.png
END:VEVENT
BEGIN:VEVENT
DTSTART;TZID=America/Denver:20230202T190000
DTEND;TZID=America/Denver:20230202T220000
DTSTAMP:20260424T151536
CREATED:20230109T123409Z
LAST-MODIFIED:20230109T123441Z
UID:8803-1675364400-1675375200@utlegion112.org
SUMMARY:Live Band - Continuum
DESCRIPTION:
URL:https://utlegion112.org/event/live-band-continuum-10/
LOCATION:Utah American Legion Post 112\, 320 E 3900 S\, Suite D\, South Salt Lake\, UT\, 84107\, United States
CATEGORIES:Bands,Continuum,Post 112
ATTACH;FMTTYPE=image/jpeg:https://utlegion112.org/wp-content/uploads/2023/01/20230105_202430-scaled.jpg
END:VEVENT
BEGIN:VEVENT
DTSTART;TZID=America/Denver:20230201T190000
DTEND;TZID=America/Denver:20230201T220000
DTSTAMP:20260424T151536
CREATED:20230109T123645Z
LAST-MODIFIED:20230109T123652Z
UID:8805-1675278000-1675288800@utlegion112.org
SUMMARY:Karaoke Night
DESCRIPTION:
URL:https://utlegion112.org/event/karaoke-night-76/
LOCATION:Utah American Legion Post 112\, 320 E 3900 S\, Suite D\, South Salt Lake\, UT\, 84107\, United States
CATEGORIES:Karaoke,Post 112
ATTACH;FMTTYPE=image/png:https://utlegion112.org/wp-content/uploads/2022/04/karaoke.png
END:VEVENT
BEGIN:VEVENT
DTSTART;TZID=America/Denver:20230129T190000
DTEND;TZID=America/Denver:20230129T220000
DTSTAMP:20260424T151536
CREATED:20230109T122850Z
LAST-MODIFIED:20230109T122850Z
UID:8801-1675018800-1675029600@utlegion112.org
SUMMARY:Live Band - Bone
DESCRIPTION:
URL:https://utlegion112.org/event/live-band-bone-2/
LOCATION:Utah American Legion Post 112\, 320 E 3900 S\, Suite D\, South Salt Lake\, UT\, 84107\, United States
CATEGORIES:Bands,Bone,Post 112
ATTACH;FMTTYPE=image/jpeg:https://utlegion112.org/wp-content/uploads/2023/01/315607070_10226169502536636_3365363815385693435_n.jpg
END:VEVENT
BEGIN:VEVENT
DTSTART;TZID=America/Denver:20230128T190000
DTEND;TZID=America/Denver:20230128T220000
DTSTAMP:20260424T151536
CREATED:20230109T131426Z
LAST-MODIFIED:20230109T131430Z
UID:8812-1674932400-1674943200@utlegion112.org
SUMMARY:Brett's Band Birthday Bash
DESCRIPTION:
URL:https://utlegion112.org/event/bretts-band-birthday-bash/
LOCATION:Utah American Legion Post 112\, 320 E 3900 S\, Suite D\, South Salt Lake\, UT\, 84107\, United States
CATEGORIES:Post 112
END:VEVENT
BEGIN:VEVENT
DTSTART;TZID=America/Denver:20230127T190000
DTEND;TZID=America/Denver:20230127T220000
DTSTAMP:20260424T151536
CREATED:20230109T121449Z
LAST-MODIFIED:20230109T121519Z
UID:8797-1674846000-1674856800@utlegion112.org
SUMMARY:Karaoke Night
DESCRIPTION:
URL:https://utlegion112.org/event/karaoke-night-75/
LOCATION:Utah American Legion Post 112\, 320 E 3900 S\, Suite D\, South Salt Lake\, UT\, 84107\, United States
CATEGORIES:Karaoke,Post 112
ATTACH;FMTTYPE=image/png:https://utlegion112.org/wp-content/uploads/2022/04/karaoke.png
END:VEVENT
BEGIN:VEVENT
DTSTART;TZID=America/Denver:20230126T190000
DTEND;TZID=America/Denver:20230126T220000
DTSTAMP:20260424T151536
CREATED:20230109T122521Z
LAST-MODIFIED:20230109T122521Z
UID:8799-1674759600-1674770400@utlegion112.org
SUMMARY:Live Band - Continuum
DESCRIPTION:
URL:https://utlegion112.org/event/live-band-continuum-9/
LOCATION:Utah American Legion Post 112\, 320 E 3900 S\, Suite D\, South Salt Lake\, UT\, 84107\, United States
CATEGORIES:Bands,Continuum,Post 112
ATTACH;FMTTYPE=image/jpeg:https://utlegion112.org/wp-content/uploads/2023/01/20230105_202430-scaled.jpg
END:VEVENT
BEGIN:VEVENT
DTSTART;TZID=America/Denver:20230125T190000
DTEND;TZID=America/Denver:20230125T220000
DTSTAMP:20260424T151536
CREATED:20230109T120253Z
LAST-MODIFIED:20230109T120351Z
UID:8793-1674673200-1674684000@utlegion112.org
SUMMARY:Karaoke Night
DESCRIPTION:
URL:https://utlegion112.org/event/karaoke-night-74/
LOCATION:Utah American Legion Post 112\, 320 E 3900 S\, Suite D\, South Salt Lake\, UT\, 84107\, United States
CATEGORIES:Karaoke,Post 112
ATTACH;FMTTYPE=image/png:https://utlegion112.org/wp-content/uploads/2022/04/karaoke.png
END:VEVENT
BEGIN:VEVENT
DTSTART;TZID=America/Denver:20230122T190000
DTEND;TZID=America/Denver:20230122T220000
DTSTAMP:20260424T151536
CREATED:20230109T115223Z
LAST-MODIFIED:20230109T115509Z
UID:8791-1674414000-1674424800@utlegion112.org
SUMMARY:Live Band - Canyon Band
DESCRIPTION:
URL:https://utlegion112.org/event/live-band-canyon-band-2/
LOCATION:Utah American Legion Post 112\, 320 E 3900 S\, Suite D\, South Salt Lake\, UT\, 84107\, United States
CATEGORIES:Bands,Canyon Band,Post 112
ATTACH;FMTTYPE=image/jpeg:https://utlegion112.org/wp-content/uploads/2022/10/20221023_194024.jpg
END:VEVENT
BEGIN:VEVENT
DTSTART;TZID=America/Denver:20230121T190000
DTEND;TZID=America/Denver:20230121T220000
DTSTAMP:20260424T151536
CREATED:20230109T114656Z
LAST-MODIFIED:20230109T114911Z
UID:8787-1674327600-1674338400@utlegion112.org
SUMMARY:Karaoke Night
DESCRIPTION:
URL:https://utlegion112.org/event/karaoke-night-73/
LOCATION:Utah American Legion Post 112\, 320 E 3900 S\, Suite D\, South Salt Lake\, UT\, 84107\, United States
CATEGORIES:Karaoke,Post 112
ATTACH;FMTTYPE=image/png:https://utlegion112.org/wp-content/uploads/2022/04/karaoke.png
END:VEVENT
BEGIN:VEVENT
DTSTART;TZID=America/Denver:20230120T190000
DTEND;TZID=America/Denver:20230120T220000
DTSTAMP:20260424T151536
CREATED:20230109T114210Z
LAST-MODIFIED:20230109T114217Z
UID:8783-1674241200-1674252000@utlegion112.org
SUMMARY:Karaoke Night
DESCRIPTION:
URL:https://utlegion112.org/event/karaoke-night-72/
LOCATION:Utah American Legion Post 112\, 320 E 3900 S\, Suite D\, South Salt Lake\, UT\, 84107\, United States
CATEGORIES:Karaoke,Post 112
ATTACH;FMTTYPE=image/png:https://utlegion112.org/wp-content/uploads/2022/04/karaoke.png
END:VEVENT
BEGIN:VEVENT
DTSTART;TZID=America/Denver:20230119T190000
DTEND;TZID=America/Denver:20230119T220000
DTSTAMP:20260424T151536
CREATED:20230109T113253Z
LAST-MODIFIED:20230109T113516Z
UID:8777-1674154800-1674165600@utlegion112.org
SUMMARY:Live Band - Continuum
DESCRIPTION:
URL:https://utlegion112.org/event/live-band-continuum-8/
LOCATION:Utah American Legion Post 112\, 320 E 3900 S\, Suite D\, South Salt Lake\, UT\, 84107\, United States
CATEGORIES:Bands,Continuum,Post 112
ATTACH;FMTTYPE=image/jpeg:https://utlegion112.org/wp-content/uploads/2023/01/20230105_202430-scaled.jpg
END:VEVENT
BEGIN:VEVENT
DTSTART;TZID=America/Denver:20230118T190000
DTEND;TZID=America/Denver:20230118T220000
DTSTAMP:20260424T151536
CREATED:20230109T112048Z
LAST-MODIFIED:20230109T112352Z
UID:8774-1674068400-1674079200@utlegion112.org
SUMMARY:Karaoke Night
DESCRIPTION:
URL:https://utlegion112.org/event/karaoke-night-71/
LOCATION:Utah American Legion Post 112\, 320 E 3900 S\, Suite D\, South Salt Lake\, UT\, 84107\, United States
CATEGORIES:Karaoke,Post 112
ATTACH;FMTTYPE=image/png:https://utlegion112.org/wp-content/uploads/2022/04/karaoke.png
END:VEVENT
BEGIN:VEVENT
DTSTART;TZID=America/Denver:20230116T000000
DTEND;TZID=America/Denver:20230116T235959
DTSTAMP:20260424T151536
CREATED:20220928T183550Z
LAST-MODIFIED:20220928T183554Z
UID:6094-1673827200-1673913599@utlegion112.org
SUMMARY:Martin Luther King Jr. Day
DESCRIPTION:Martin Luther King Day is a federal holiday held on the third Monday of January. It celebrates the life and achievements of Martin Luther King Jr.\, an influential American civil rights leader. He is most well-known for his campaigns to end racial segregation on public transport and for racial equality in the United States.
URL:https://utlegion112.org/event/martin-luther-king-jr-day/
LOCATION:UT
CATEGORIES:American Legion Honor Guard,American Legion Riders,Holidays,Marine Riders,Martin Luther King Jr. Day,Post 112,Sons of The American Legion,The American Legion Auxiliary,The American Legionnaires
ATTACH;FMTTYPE=image/jpeg:https://utlegion112.org/wp-content/uploads/2022/09/martin-luther-king-jr.jpg
END:VEVENT
BEGIN:VEVENT
DTSTART;TZID=America/Denver:20230115T190000
DTEND;TZID=America/Denver:20230115T220000
DTSTAMP:20260424T151536
CREATED:20230109T110653Z
LAST-MODIFIED:20230109T111436Z
UID:8768-1673809200-1673820000@utlegion112.org
SUMMARY:Live Band - Canyon Band
DESCRIPTION:
URL:https://utlegion112.org/event/live-band-canyon-band/
LOCATION:Utah American Legion Post 112\, 320 E 3900 S\, Suite D\, South Salt Lake\, UT\, 84107\, United States
CATEGORIES:Bands,Canyon Band,Post 112
ATTACH;FMTTYPE=image/jpeg:https://utlegion112.org/wp-content/uploads/2022/10/20221023_194024.jpg
END:VEVENT
BEGIN:VEVENT
DTSTART;TZID=America/Denver:20230114T190000
DTEND;TZID=America/Denver:20230114T220000
DTSTAMP:20260424T151536
CREATED:20230109T110307Z
LAST-MODIFIED:20230109T110312Z
UID:8766-1673722800-1673733600@utlegion112.org
SUMMARY:Karaoke Night
DESCRIPTION:
URL:https://utlegion112.org/event/karaoke-night-70/
LOCATION:Utah American Legion Post 112\, 320 E 3900 S\, Suite D\, South Salt Lake\, UT\, 84107\, United States
CATEGORIES:Karaoke,Post 112
ATTACH;FMTTYPE=image/png:https://utlegion112.org/wp-content/uploads/2022/04/karaoke.png
END:VEVENT
BEGIN:VEVENT
DTSTART;TZID=America/Denver:20230113T190000
DTEND;TZID=America/Denver:20230113T220000
DTSTAMP:20260424T151536
CREATED:20230109T105323Z
LAST-MODIFIED:20230109T105802Z
UID:8762-1673636400-1673647200@utlegion112.org
SUMMARY:Karaoke Night
DESCRIPTION:
URL:https://utlegion112.org/event/karaoke-night-69/
LOCATION:Utah American Legion Post 112\, 320 E 3900 S\, Suite D\, South Salt Lake\, UT\, 84107\, United States
CATEGORIES:Karaoke,Post 112
ATTACH;FMTTYPE=image/png:https://utlegion112.org/wp-content/uploads/2022/04/karaoke.png
END:VEVENT
BEGIN:VEVENT
DTSTART;TZID=America/Denver:20230112T190000
DTEND;TZID=America/Denver:20230112T220000
DTSTAMP:20260424T151536
CREATED:20230109T103520Z
LAST-MODIFIED:20230109T104113Z
UID:8755-1673550000-1673560800@utlegion112.org
SUMMARY:Live Band - Continuum
DESCRIPTION:
URL:https://utlegion112.org/event/live-band-continuum-7/
LOCATION:Utah American Legion Post 112\, 320 E 3900 S\, Suite D\, South Salt Lake\, UT\, 84107\, United States
CATEGORIES:Bands,Continuum,Post 112
ATTACH;FMTTYPE=image/jpeg:https://utlegion112.org/wp-content/uploads/2023/01/20230105_202430-scaled.jpg
END:VEVENT
BEGIN:VEVENT
DTSTART;TZID=America/Denver:20230111T190000
DTEND;TZID=America/Denver:20230111T220000
DTSTAMP:20260424T151536
CREATED:20230109T102721Z
LAST-MODIFIED:20230109T103054Z
UID:8753-1673463600-1673474400@utlegion112.org
SUMMARY:Karaoke Night
DESCRIPTION:
URL:https://utlegion112.org/event/karaoke-night-68/
LOCATION:Utah American Legion Post 112\, 320 E 3900 S\, Suite D\, South Salt Lake\, UT\, 84107\, United States
CATEGORIES:Karaoke,Post 112
ATTACH;FMTTYPE=image/png:https://utlegion112.org/wp-content/uploads/2022/04/karaoke.png
END:VEVENT
BEGIN:VEVENT
DTSTART;TZID=America/Denver:20230110T180000
DTEND;TZID=America/Denver:20230110T200000
DTSTAMP:20260424T151536
CREATED:20230103T011647Z
LAST-MODIFIED:20230103T102519Z
UID:8697-1673373600-1673380800@utlegion112.org
SUMMARY:ALA Meeting
DESCRIPTION:
URL:https://utlegion112.org/event/ala-meeting/
LOCATION:Utah American Legion Post 112\, 320 E 3900 S\, Suite D\, South Salt Lake\, UT\, 84107\, United States
CATEGORIES:Post 112,The American Legion Auxiliary
ATTACH;FMTTYPE=image/png:https://utlegion112.org/wp-content/uploads/2023/01/ALA-s.png
END:VEVENT
BEGIN:VEVENT
DTSTART;TZID=America/Denver:20230108T190000
DTEND;TZID=America/Denver:20230108T220000
DTSTAMP:20260424T151536
CREATED:20230109T101100Z
LAST-MODIFIED:20230109T104651Z
UID:8749-1673204400-1673215200@utlegion112.org
SUMMARY:Live Band - Bone
DESCRIPTION:
URL:https://utlegion112.org/event/live-band-bone/
LOCATION:Utah American Legion Post 112\, 320 E 3900 S\, Suite D\, South Salt Lake\, UT\, 84107\, United States
CATEGORIES:Bands,Bone,Post 112
ATTACH;FMTTYPE=image/jpeg:https://utlegion112.org/wp-content/uploads/2023/01/315607070_10226169502536636_3365363815385693435_n.jpg
END:VEVENT
BEGIN:VEVENT
DTSTART;TZID=America/Denver:20230108T120000
DTEND;TZID=America/Denver:20230108T140000
DTSTAMP:20260424T151536
CREATED:20230109T091301Z
LAST-MODIFIED:20230109T091731Z
UID:8744-1673179200-1673186400@utlegion112.org
SUMMARY:ALR Meeting
DESCRIPTION:
URL:https://utlegion112.org/event/alr-meeting/
LOCATION:Utah American Legion Post 112\, 320 E 3900 S\, Suite D\, South Salt Lake\, UT\, 84107\, United States
CATEGORIES:American Legion Riders,Post 112
ATTACH;FMTTYPE=image/png:https://utlegion112.org/wp-content/uploads/2023/01/ALR-s.png
END:VEVENT
BEGIN:VEVENT
DTSTART;TZID=America/Denver:20230107T190000
DTEND;TZID=America/Denver:20230107T220000
DTSTAMP:20260424T151536
CREATED:20230109T085152Z
LAST-MODIFIED:20230109T085157Z
UID:8740-1673118000-1673128800@utlegion112.org
SUMMARY:Karaoke Night
DESCRIPTION:
URL:https://utlegion112.org/event/karaoke-night-67/
LOCATION:Utah American Legion Post 112\, 320 E 3900 S\, Suite D\, South Salt Lake\, UT\, 84107\, United States
CATEGORIES:Karaoke,Post 112
ATTACH;FMTTYPE=image/png:https://utlegion112.org/wp-content/uploads/2022/04/karaoke.png
END:VEVENT
BEGIN:VEVENT
DTSTART;TZID=America/Denver:20230106T190000
DTEND;TZID=America/Denver:20230106T220000
DTSTAMP:20260424T151536
CREATED:20230109T075446Z
LAST-MODIFIED:20230109T075745Z
UID:8734-1673031600-1673042400@utlegion112.org
SUMMARY:Karaoke Night
DESCRIPTION:
URL:https://utlegion112.org/event/karaoke-night-66/
LOCATION:Utah American Legion Post 112\, 320 E 3900 S\, Suite D\, South Salt Lake\, UT\, 84107\, United States
CATEGORIES:Karaoke,Post 112
ATTACH;FMTTYPE=image/png:https://utlegion112.org/wp-content/uploads/2022/04/karaoke.png
END:VEVENT
BEGIN:VEVENT
DTSTART;TZID=America/Denver:20230105T190000
DTEND;TZID=America/Denver:20230105T220000
DTSTAMP:20260424T151536
CREATED:20230109T073847Z
LAST-MODIFIED:20230109T104246Z
UID:8728-1672945200-1672956000@utlegion112.org
SUMMARY:Live Band - Continuum
DESCRIPTION:
URL:https://utlegion112.org/event/live-band-continuum-6/
LOCATION:Utah American Legion Post 112\, 320 E 3900 S\, Suite D\, South Salt Lake\, UT\, 84107\, United States
CATEGORIES:Bands,Continuum,Post 112
ATTACH;FMTTYPE=image/jpeg:https://utlegion112.org/wp-content/uploads/2023/01/20230105_202430-scaled.jpg
END:VEVENT
BEGIN:VEVENT
DTSTART;TZID=America/Denver:20230104T190000
DTEND;TZID=America/Denver:20230104T220000
DTSTAMP:20260424T151536
CREATED:20230107T064647Z
LAST-MODIFIED:20230107T065728Z
UID:8715-1672858800-1672869600@utlegion112.org
SUMMARY:Karaoke Night
DESCRIPTION:
URL:https://utlegion112.org/event/karaoke-night-65/
LOCATION:Utah American Legion Post 112\, 320 E 3900 S\, Suite D\, South Salt Lake\, UT\, 84107\, United States
CATEGORIES:Karaoke,Post 112
ATTACH;FMTTYPE=image/png:https://utlegion112.org/wp-content/uploads/2022/04/karaoke.png
END:VEVENT
BEGIN:VEVENT
DTSTART;TZID=America/Denver:20230103T190000
DTEND;TZID=America/Denver:20230103T210000
DTSTAMP:20260424T151536
CREATED:20230103T014409Z
LAST-MODIFIED:20230103T014432Z
UID:8701-1672772400-1672779600@utlegion112.org
SUMMARY:Legion Meeting
DESCRIPTION:
URL:https://utlegion112.org/event/legion-meeting/
LOCATION:Utah American Legion Post 112\, 320 E 3900 S\, Suite D\, South Salt Lake\, UT\, 84107\, United States
CATEGORIES:Post 112,The American Legionnaires
ATTACH;FMTTYPE=image/png:https://utlegion112.org/wp-content/uploads/2023/01/AL-s.png
END:VEVENT
END:VCALENDAR